BEGIN:VCALENDAR
VERSION:2.0
PRODID:spatie/icalendar-generator
DESCRIPTION:Events from Land Stewardship Action
X-WR-CALDESC:Events from Land Stewardship Action
REFRESH-INTERVAL;VALUE=DURATION:PT1440M
X-PUBLISHED-TTL:PT1440M
BEGIN:VTIMEZONE
TZID:America/Chicago
BEGIN:DAYLIGHT
DTSTART:20240310T020000Z
TZOFFSETFROM:-0600
TZOFFSETTO:-0500
END:DAYLIGHT
BEGIN:STANDARD
DTSTART:20241103T020000Z
TZOFFSETFROM:-0500
TZOFFSETTO:-0600
END:STANDARD
END:VTIMEZONE
BEGIN:VTIMEZONE
TZID:UTC
BEGIN:STANDARD
DTSTART:20250730T005554Z
TZOFFSETFROM:+0000
TZOFFSETTO:+0000
END:STANDARD
END:VTIMEZONE
BEGIN:VEVENT
UID:3-3
DTSTAMP:20260426T005554Z
SUMMARY:Western Minnesota Candidate and Community Conversation
LOCATION:Montevideo Community Center 550 S 1st Street  Montevideo MN 56265
ORGANIZER;CN=Emily Minge:MAILTO:eminge@landstewardshipaction.org
DTSTART;TZID=America/Chicago:20240826T180000
DTEND;TZID=America/Chicago:20240826T200000
X-ALT-DESC;FMTTYPE=TEXT/HTML:Elections for various levels of government are
  happening in November and now is the time to meet with candidates\, learn
  how they will show up for people and the land\, and build connection and 
 community with them. Join us on Monday\, August 26th at 6:00 p.m. at Monte
 video Community Center to meet and have a&amp;hellip\;
CATEGORIES:General
URL;VALUE=URI:https://landstewardshipaction.org/mc-events/western-minnesota
 -candidate-and-community-conversation/
METHOD:PUBLISH
END:VEVENT
END:VCALENDAR